BEGIN:VCALENDAR
VERSION:2.0
PRODID:-//eventon.com NONSGML v1.0//EN
CALSCALE:GREGORIAN
METHOD:PUBLISH
BEGIN:VEVENT
UID:69e7371484c64
DTSTAMP:20260421T083636Z
DTSTART:20260425
DTEND:20260426
LOCATION:
SUMMARY:МСД – Здружение на специјалисти по ортодонција
DESCRIPTION:\nhttps://skm.mk/events/msd-zdruzhenie-na-specijalisti-po-ortod
 oncija-4/
URL:https://skm.mk/events/msd-zdruzhenie-na-specijalisti-po-ortodoncija-4/
END:VEVENT
END:VCALENDAR