BEGIN:VCALENDAR
VERSION:2.0
PRODID:-//eventon.com NONSGML v1.0//EN
CALSCALE:GREGORIAN
METHOD:PUBLISH
BEGIN:VEVENT
UID:69e74a7c47b08
DTSTAMP:20260421T095924Z
DTSTART:20260606
DTEND:20260607
LOCATION:Скопје
SUMMARY:Здружение на спец. по болести на уста и пародонт – МСД Скопје
DESCRIPTION:\nhttps://skm.mk/events/zdruzhenie-na-spec-po-bolesti-na-usta-i
 -parodont-msd-skopje/
URL:https://skm.mk/events/zdruzhenie-na-spec-po-bolesti-na-usta-i-parodont-msd-skopje/
END:VEVENT
END:VCALENDAR