BEGIN:VCALENDAR
VERSION:2.0
PRODID:-//eventon.com NONSGML v1.0//EN
CALSCALE:GREGORIAN
METHOD:PUBLISH
BEGIN:VEVENT
UID:69e74f5919e94
DTSTAMP:20260421T102009Z
DTSTART:20221217
DTEND:20221218
LOCATION:Скопје
SUMMARY:МСД - ЗДРУЖЕНИЕ НА СПЕЦИЈАЛИСТИ ПО БОЛЕСТИ НА УСТА И ПАРОДОНТОТ
DESCRIPTION:МСД - ЗДРУЖЕНИЕ НА СПЕЦИЈАЛИСТИ ПО 
 БОЛЕСТИ НА УСТА И ПАРОДОНТОТ\nhttps://skm.mk/sq/eve
 nts/msd-zdruzhenie-na-specijalisti-po-bolesti-na-usta-i-parodontot/
URL:https://skm.mk/sq/events/msd-zdruzhenie-na-specijalisti-po-bolesti-na-usta-i-parodontot/
END:VEVENT
END:VCALENDAR