BEGIN:VCALENDAR
VERSION:2.0
PRODID:-//eventon.com NONSGML v1.0//EN
CALSCALE:GREGORIAN
METHOD:PUBLISH
BEGIN:VEVENT
UID:69e74ab1e05fc
DTSTAMP:20260421T100017Z
DTSTART:20231209T180000Z
DTEND:20231209T180000Z
LOCATION:Скопје
SUMMARY:МСД – ЗДРУЖЕНИЕ НА СПЕЦИЈАЛИСТИ ПО МАКСИЛОФАЦИЈАЛНА ХИРУРГИЈА
DESCRIPTION:МСД – ЗДРУЖЕНИЕ НА СПЕЦИЈАЛИСТИ П
  МАКСИЛОФАЦИЈАЛНА ХИРУРГИЈА\nhttps://skm.mk/sq/ev
 ents/msd-zdruzhenie-na-specijalisti-po-maksilofacijalna-hirurgija-2/
URL:https://skm.mk/sq/events/msd-zdruzhenie-na-specijalisti-po-maksilofacijalna-hirurgija-2/
END:VEVENT
END:VCALENDAR