BEGIN:VCALENDAR
VERSION:2.0
PRODID:-//eventon.com NONSGML v1.0//EN
CALSCALE:GREGORIAN
METHOD:PUBLISH
BEGIN:VEVENT
UID:69e74ab1e30a0
DTSTAMP:20260421T100017Z
DTSTART:20240309T080000Z
DTEND:20240309T120000Z
LOCATION:Скопје
SUMMARY:МСД – Здружение на специјалисти по болести на заби и ендодонтот
DESCRIPTION:РЕСТАВРАТИВНА СТОМАТОЛОГИЈА &#8211; 
 Д ПРЕДИЗВИК ДО СЕКОЈДНЕВИЕ Скопје &#8211; х
 тел АЛЕКСАНДАР ПАЛАС\nhttps://skm.mk/sq/events/msd-zdruz
 henie-na-specijalisti-po-bolesti-na-zabii-endodontot/
URL:https://skm.mk/sq/events/msd-zdruzhenie-na-specijalisti-po-bolesti-na-zabii-endodontot/
END:VEVENT
END:VCALENDAR