BEGIN:VCALENDAR
VERSION:2.0
PRODID:-//eventon.com NONSGML v1.0//EN
CALSCALE:GREGORIAN
METHOD:PUBLISH
BEGIN:VEVENT
UID:69e74aab78a1c
DTSTAMP:20260421T100011Z
DTSTART:20241130
DTEND:20241201
LOCATION:Скопје
SUMMARY:МСД – Здружение на специјалисти по болести на устаи пародонтот
DESCRIPTION:\nhttps://skm.mk/sq/events/msd-zdruzhenie-na-specijalisti-po-bo
 lesti-na-ustai-parodontot/
URL:https://skm.mk/sq/events/msd-zdruzhenie-na-specijalisti-po-bolesti-na-ustai-parodontot/
END:VEVENT
END:VCALENDAR