BEGIN:VCALENDAR
VERSION:2.0
PRODID:-//eventon.com NONSGML v1.0//EN
CALSCALE:GREGORIAN
METHOD:PUBLISH
BEGIN:VEVENT
UID:69e73776393b3
DTSTAMP:20260421T083814Z
DTSTART:20241201
DTEND:20241202
LOCATION:Тетово
SUMMARY:Стоматолошко здружение Аполониа Тетово
DESCRIPTION:\nhttps://skm.mk/sq/events/stomatoloshko-zdruzhenie-apolonia-te
 tovo-2/
URL:https://skm.mk/sq/events/stomatoloshko-zdruzhenie-apolonia-tetovo-2/
END:VEVENT
END:VCALENDAR